BEGIN:VCALENDAR
VERSION:2.0
PRODID:-//Doppelpunkt//Events//DE
CALSCALE:GREGORIAN
METHOD:PUBLISH
BEGIN:VEVENT
UID:event-4517@www.doppelpunkt.de
DTSTAMP:20260425T161314
DTSTART:20260123T200000
DTEND:20260123T200000
SUMMARY:"AREA 42"\, Ü42-Party mit DJ Alexander Pavel
LOCATION:Kulturforum Logenhaus\, Universitätsstr. 25\, 91054 Erlangen
STATUS:CONFIRMED
END:VEVENT
END:VCALENDAR