BEGIN:VCALENDAR
VERSION:2.0
PRODID:-//Doppelpunkt//Events//DE
CALSCALE:GREGORIAN
METHOD:PUBLISH
BEGIN:VEVENT
UID:event-4516@www.doppelpunkt.de
DTSTAMP:20260425T141945
DTSTART:20260123T190000
DTEND:20260123T190000
SUMMARY:"Art & Movie Night": Führung durch die Ausstellung Andrej Dúbravský\, Workshop u. Film
LOCATION:Kunstpalais\, Marktplatz 1\, 91054 Erlangen
STATUS:CONFIRMED
END:VEVENT
END:VCALENDAR