BEGIN:VCALENDAR
VERSION:2.0
PRODID:-//Doppelpunkt//Events//DE
CALSCALE:GREGORIAN
METHOD:PUBLISH
BEGIN:VEVENT
UID:event-4514@www.doppelpunkt.de
DTSTAMP:20260425T141746
DTSTART:20260121T200000
DTEND:20260121T200000
SUMMARY:Egersdörfer\, Schulz\, Müller: "Carmen oder Worte\, die das Herz berühren"
LOCATION:Kunst- u. Kurhaus Katana\, Wilhelm-Spaeth-Str. 18\, 90461 Nürnberg
STATUS:CONFIRMED
END:VEVENT
END:VCALENDAR