BEGIN:VCALENDAR
VERSION:2.0
PRODID:-//Doppelpunkt//Events//DE
CALSCALE:GREGORIAN
METHOD:PUBLISH
BEGIN:VEVENT
UID:event-4513@www.doppelpunkt.de
DTSTAMP:20260425T135447
DTSTART:20260124T170000
DTEND:20260124T170000
SUMMARY:Fidel Zaldumbide (Marimba)
LOCATION:Hirsvogelsaal/Museum Tucherschloss\, Eingang Treibberg 6\, 90403 Nürnberg
STATUS:CONFIRMED
END:VEVENT
END:VCALENDAR