BEGIN:VCALENDAR
VERSION:2.0
PRODID:-//Doppelpunkt//Events//DE
CALSCALE:GREGORIAN
METHOD:PUBLISH
BEGIN:VEVENT
UID:event-4507@www.doppelpunkt.de
DTSTAMP:20260425T125655
DTSTART:20260212T193000
DTEND:20260212T193000
SUMMARY:„49. Lateinamerikatage“: Vortrag: "Nach dem US-Angriff - Was passiert in Venezuela?"
LOCATION:Villa Leon\, Philipp-Körber-Weg 1\, 90439 Nürnberg
STATUS:CONFIRMED
END:VEVENT
END:VCALENDAR