BEGIN:VCALENDAR
VERSION:2.0
PRODID:-//Doppelpunkt//Events//DE
CALSCALE:GREGORIAN
METHOD:PUBLISH
BEGIN:VEVENT
UID:event-4502@www.doppelpunkt.de
DTSTAMP:20260425T135250
DTSTART:20260128T200000
DTEND:20260128T200000
SUMMARY:„49. Lateinamerikatage“: Vortrag: "Digitaler Kolonialismus"
LOCATION:Villa Leon\, Philipp-Körber-Weg 1\, 90439 Nürnberg
STATUS:CONFIRMED
END:VEVENT
END:VCALENDAR