BEGIN:VCALENDAR
VERSION:2.0
PRODID:-//Doppelpunkt//Events//DE
CALSCALE:GREGORIAN
METHOD:PUBLISH
BEGIN:VEVENT
UID:event-4501@www.doppelpunkt.de
DTSTAMP:20260425T135248
DTSTART:20260128T180000
DTEND:20260128T180000
SUMMARY:„49. Lateinamerikatage“: Vortrag: "Kosmopolitik: Aktuelle indigene Politik in der Anden-Region"
LOCATION:Villa Leon\, Philipp-Körber-Weg 1\, 90439 Nürnberg
STATUS:CONFIRMED
END:VEVENT
END:VCALENDAR