BEGIN:VCALENDAR
VERSION:2.0
PRODID:-//Doppelpunkt//Events//DE
CALSCALE:GREGORIAN
METHOD:PUBLISH
BEGIN:VEVENT
UID:event-4500@www.doppelpunkt.de
DTSTAMP:20260425T135315
DTSTART:20260127T200000
DTEND:20260127T200000
SUMMARY:„49. Lateinamerikatage“: Vortrag: "Soy Story - Die traurige Wahrheit zur Entstehung des deutschen Schnitzels"
LOCATION:Villa Leon\, Philipp-Körber-Weg 1\, 90439 Nürnberg
STATUS:CONFIRMED
END:VEVENT
END:VCALENDAR