BEGIN:VCALENDAR
VERSION:2.0
PRODID:-//Doppelpunkt//Events//DE
CALSCALE:GREGORIAN
METHOD:PUBLISH
BEGIN:VEVENT
UID:event-4499@www.doppelpunkt.de
DTSTAMP:20260425T135447
DTSTART:20260127T180000
DTEND:20260127T180000
SUMMARY:„49. Lateinamerikatage“: Vortrag: "Macht und Ohnmacht in Zentralamerika"
LOCATION:Villa Leon\, Philipp-Körber-Weg 1\, 90439 Nürnberg
STATUS:CONFIRMED
END:VEVENT
END:VCALENDAR