BEGIN:VCALENDAR
VERSION:2.0
PRODID:-//Doppelpunkt//Events//DE
CALSCALE:GREGORIAN
METHOD:PUBLISH
BEGIN:VEVENT
UID:event-4498@www.doppelpunkt.de
DTSTAMP:20260425T135756
DTSTART:20260125T180000
DTEND:20260125T180000
SUMMARY:„49. Lateinamerikatage“: Ökumenischer mehrsprachiger Lateinamerika-Gottesdienst
LOCATION:Villa Leon\, Philipp-Körber-Weg 1\, 90439 Nürnberg
STATUS:CONFIRMED
END:VEVENT
END:VCALENDAR