BEGIN:VCALENDAR
VERSION:2.0
PRODID:-//Doppelpunkt//Events//DE
CALSCALE:GREGORIAN
METHOD:PUBLISH
BEGIN:VEVENT
UID:event-4495@www.doppelpunkt.de
DTSTAMP:20260425T135518
DTSTART:20260128T190000
DTEND:20260128T190000
SUMMARY:"Wortlaut 31 live": Präsentation der Literaturzeitschrift Wortlaut 31 mit Kurzlesungen u. Live-Musik mit Vronsy
LOCATION:KuNo\, Wurzelbauerstr. 29/35\, 90409 Nürnberg
STATUS:CONFIRMED
END:VEVENT
END:VCALENDAR