BEGIN:VCALENDAR
VERSION:2.0
PRODID:-//Doppelpunkt//Events//DE
CALSCALE:GREGORIAN
METHOD:PUBLISH
BEGIN:VEVENT
UID:event-4492@www.doppelpunkt.de
DTSTAMP:20260425T141543
DTSTART:20260121T193000
DTEND:20260121T193000
SUMMARY:Nils Mönkemeyer u. William Youn: Sätze aus der F.A.E.-Sonate von Dietrich/Schumann/Brahms
LOCATION:Meistersingerhalle\, Münchener Str. 21\, 90478 Nürnberg
STATUS:CONFIRMED
END:VEVENT
END:VCALENDAR