BEGIN:VCALENDAR
VERSION:2.0
PRODID:-//Doppelpunkt//Events//DE
CALSCALE:GREGORIAN
METHOD:PUBLISH
BEGIN:VEVENT
UID:event-4491@www.doppelpunkt.de
DTSTAMP:20260425T135838
DTSTART:20260123T200000
DTEND:20260123T200000
SUMMARY:Lesung und Gespräch mit Robin Alexander: "Letzte Chance"
LOCATION:Buchhandlung Rupprecht\, Nürnberger Str. 24-26\, 91052 Erlangen
STATUS:CONFIRMED
END:VEVENT
END:VCALENDAR