BEGIN:VCALENDAR
VERSION:2.0
PRODID:-//Doppelpunkt//Events//DE
CALSCALE:GREGORIAN
METHOD:PUBLISH
BEGIN:VEVENT
UID:event-4490@www.doppelpunkt.de
DTSTAMP:20260425T135355
DTSTART:20260131T200000
DTEND:20260131T200000
SUMMARY:"Kreuzgangspiele extra": Steffi Denk & Flexible Friends (Jazz/Soul)
LOCATION:Stadthalle Kasten\, 91555 Feuchtwangen
STATUS:CONFIRMED
END:VEVENT
END:VCALENDAR