BEGIN:VCALENDAR
VERSION:2.0
PRODID:-//Doppelpunkt//Events//DE
CALSCALE:GREGORIAN
METHOD:PUBLISH
BEGIN:VEVENT
UID:event-4489@www.doppelpunkt.de
DTSTAMP:20260425T135517
DTSTART:20260126T194500
DTEND:20260126T194500
SUMMARY:Nick & June (Indie-Folk/Pop)
LOCATION:Club Stereo\, Klaragasse 8\, 90402 Nürnberg
STATUS:CONFIRMED
END:VEVENT
END:VCALENDAR