BEGIN:VCALENDAR
VERSION:2.0
PRODID:-//Doppelpunkt//Events//DE
CALSCALE:GREGORIAN
METHOD:PUBLISH
BEGIN:VEVENT
UID:event-4488@www.doppelpunkt.de
DTSTAMP:20260425T140515
DTSTART:20260124T200000
DTEND:20260124T200000
SUMMARY:Dieter Köhnlein (Jazz)
LOCATION:Kunsthaus R3\, Reitbahn 3\, 91522 Ansbach
STATUS:CONFIRMED
END:VEVENT
END:VCALENDAR