BEGIN:VCALENDAR
VERSION:2.0
PRODID:-//Doppelpunkt//Events//DE
CALSCALE:GREGORIAN
METHOD:PUBLISH
BEGIN:VEVENT
UID:event-4483@www.doppelpunkt.de
DTSTAMP:20260425T135611
DTSTART:20260129T200000
DTEND:20260129T200000
SUMMARY:Jam-Session mit Michael Kusche Trio (Electric Blues)
LOCATION:Vischers Kulturladen\, Hufelandstraße 4\, 90419 Nürnberg
STATUS:CONFIRMED
END:VEVENT
END:VCALENDAR