BEGIN:VCALENDAR
VERSION:2.0
PRODID:-//Doppelpunkt//Events//DE
CALSCALE:GREGORIAN
METHOD:PUBLISH
BEGIN:VEVENT
UID:event-4481@www.doppelpunkt.de
DTSTAMP:20260421T111648
DTSTART:20260205T210000
DTEND:20260205T210000
SUMMARY:Wolfgang Bernreuther  Band (Blues/Bluesrock)
LOCATION:Brown Sugar\, Königstorgraben 3\, 90402 Nürnberg
STATUS:CONFIRMED
END:VEVENT
END:VCALENDAR