BEGIN:VCALENDAR
VERSION:2.0
PRODID:-//Doppelpunkt//Events//DE
CALSCALE:GREGORIAN
METHOD:PUBLISH
BEGIN:VEVENT
UID:event-4480@www.doppelpunkt.de
DTSTAMP:20260425T141545
DTSTART:20260125T160000
DTEND:20260125T160000
SUMMARY:"Wortfunken"-Literaturfest: "Zauberzeichen"\, Buchstabentheater ab 5 J.
LOCATION:Stadtbibliothek Zentrum\, Gewerbemuseumsplatz 4\, 90403 Nürnberg
STATUS:CONFIRMED
END:VEVENT
END:VCALENDAR