BEGIN:VCALENDAR
VERSION:2.0
PRODID:-//Doppelpunkt//Events//DE
CALSCALE:GREGORIAN
METHOD:PUBLISH
BEGIN:VEVENT
UID:event-4479@www.doppelpunkt.de
DTSTAMP:20260425T141818
DTSTART:20260125T150000
DTEND:20260125T150000
SUMMARY:"Wortfunken"-Literaturfest: Lesung mit Sina Flammang und Kathrin Rödl: "Meine schlimme Geschichte. Tagebuch einer Vampirin"\, ab 10 J.
LOCATION:Stadtbibliothek Zentrum\, Gewerbemuseumsplatz 4\, 90403 Nürnberg
STATUS:CONFIRMED
END:VEVENT
END:VCALENDAR