BEGIN:VCALENDAR
VERSION:2.0
PRODID:-//Doppelpunkt//Events//DE
CALSCALE:GREGORIAN
METHOD:PUBLISH
BEGIN:VEVENT
UID:event-4478@www.doppelpunkt.de
DTSTAMP:20260425T142146
DTSTART:20260125T130000
DTEND:20260125T130000
SUMMARY:"Wortfunken"-Literaturfest: "Halligalli"-Familienfest mit Gaming-Station\, Workshops u.a.
LOCATION:Stadtbibliothek Zentrum\, Gewerbemuseumsplatz 4\, 90403 Nürnberg
STATUS:CONFIRMED
END:VEVENT
END:VCALENDAR