BEGIN:VCALENDAR
VERSION:2.0
PRODID:-//Doppelpunkt//Events//DE
CALSCALE:GREGORIAN
METHOD:PUBLISH
BEGIN:VEVENT
UID:event-4477@www.doppelpunkt.de
DTSTAMP:20260425T141546
DTSTART:20260125T110000
DTEND:20260125T110000
SUMMARY:"Wortfunken"-Literaturfest: Lesung mit Manfred Baur: "Was ist was? - Planeten"
LOCATION:Stadtbibliothek Zentrum\, Gewerbemuseumsplatz 4\, 90403 Nürnberg
STATUS:CONFIRMED
END:VEVENT
END:VCALENDAR