BEGIN:VCALENDAR
VERSION:2.0
PRODID:-//Doppelpunkt//Events//DE
CALSCALE:GREGORIAN
METHOD:PUBLISH
BEGIN:VEVENT
UID:event-4476@www.doppelpunkt.de
DTSTAMP:20260425T135304
DTSTART:20260124T160000
DTEND:20260124T160000
SUMMARY:"Wortfunken"-Literaturfest: Autorenlesung mit Erhard Dietl: "Die Orchis"
LOCATION:Stadtbibliothek Zentrum\, Gewerbemuseumsplatz 4\, 90403 Nürnberg
STATUS:CONFIRMED
END:VEVENT
END:VCALENDAR