BEGIN:VCALENDAR
VERSION:2.0
PRODID:-//Doppelpunkt//Events//DE
CALSCALE:GREGORIAN
METHOD:PUBLISH
BEGIN:VEVENT
UID:event-4475@www.doppelpunkt.de
DTSTAMP:20260425T135304
DTSTART:20260124T140000
DTEND:20260124T140000
SUMMARY:"Wortfunken"-Literaturfest: Büchertipps für Kids - Elternedition
LOCATION:Stadtbibliothek Zentrum\, Gewerbemuseumsplatz 4\, 90403 Nürnberg
STATUS:CONFIRMED
END:VEVENT
END:VCALENDAR