BEGIN:VCALENDAR
VERSION:2.0
PRODID:-//Doppelpunkt//Events//DE
CALSCALE:GREGORIAN
METHOD:PUBLISH
BEGIN:VEVENT
UID:event-4473@www.doppelpunkt.de
DTSTAMP:20260425T135248
DTSTART:20260124T110000
DTEND:20260124T110000
SUMMARY:"Wortfunken"-Literaturfest: "Großer Hase - Kleiner Fuchs"\, Musiktheater ab 5 J.
LOCATION:Stadtbibliothek Zentrum\, Gewerbemuseumsplatz 4\, 90403 Nürnberg
STATUS:CONFIRMED
END:VEVENT
END:VCALENDAR