BEGIN:VCALENDAR
VERSION:2.0
PRODID:-//Doppelpunkt//Events//DE
CALSCALE:GREGORIAN
METHOD:PUBLISH
BEGIN:VEVENT
UID:event-4472@www.doppelpunkt.de
DTSTAMP:20260425T145006
DTSTART:20260123T190000
DTEND:20260123T190000
SUMMARY:"Wortfunken"-Literaturfest: Autorinnenlesung mit Ursula Poznanski: "Erebos 3"\, ab 14 J.
LOCATION:Fabersaal/Bildungszentrum\, Gewerbemuseumsplatz 2\, 90403 Nürnberg
STATUS:CONFIRMED
END:VEVENT
END:VCALENDAR