BEGIN:VCALENDAR
VERSION:2.0
PRODID:-//Doppelpunkt//Events//DE
CALSCALE:GREGORIAN
METHOD:PUBLISH
BEGIN:VEVENT
UID:event-4471@www.doppelpunkt.de
DTSTAMP:20260425T144222
DTSTART:20260123T190000
DTEND:20260123T190000
SUMMARY:"Wortfunken"-Literaturfest: Lesenacht mit Übernachtung
LOCATION:Nicolaus-Copernicus-Planetarium\, Am Plärrer 41\, 90429 Nürnberg
STATUS:CONFIRMED
END:VEVENT
END:VCALENDAR