BEGIN:VCALENDAR
VERSION:2.0
PRODID:-//Doppelpunkt//Events//DE
CALSCALE:GREGORIAN
METHOD:PUBLISH
BEGIN:VEVENT
UID:event-4470@www.doppelpunkt.de
DTSTAMP:20260425T144344
DTSTART:20260123T170000
DTEND:20260123T170000
SUMMARY:"Wortfunken"-Literaturfest: Führung: "Herzensstücke: Verwandlungsbücher und bewegliche Bilderbücher"
LOCATION:Stadtbibliothek Zentrum\, Gewerbemuseumsplatz 4\, 90403 Nürnberg
STATUS:CONFIRMED
END:VEVENT
END:VCALENDAR