BEGIN:VCALENDAR
VERSION:2.0
PRODID:-//Doppelpunkt//Events//DE
CALSCALE:GREGORIAN
METHOD:PUBLISH
BEGIN:VEVENT
UID:event-4469@www.doppelpunkt.de
DTSTAMP:20260425T141914
DTSTART:20260123T170000
DTEND:20260123T170000
SUMMARY:"Wortfunken"-Literaturfest: Bilderbuchkino\, ab 6 J.
LOCATION:Villa Leon\, Philipp-Körber-Weg 1\, 90439 Nürnberg
STATUS:CONFIRMED
END:VEVENT
END:VCALENDAR