BEGIN:VCALENDAR
VERSION:2.0
PRODID:-//Doppelpunkt//Events//DE
CALSCALE:GREGORIAN
METHOD:PUBLISH
BEGIN:VEVENT
UID:event-4466@www.doppelpunkt.de
DTSTAMP:20260425T141851
DTSTART:20260123T160000
DTEND:20260123T160000
SUMMARY:"Wortfunken"-Literaturfest: Bilderbuchkino\, ab 6 J.
LOCATION:Stadtteilbibliothek im Südpunkt\, Pillenreuther Str. 147\, 90459 Nürnberg
STATUS:CONFIRMED
END:VEVENT
END:VCALENDAR