BEGIN:VCALENDAR
VERSION:2.0
PRODID:-//Doppelpunkt//Events//DE
CALSCALE:GREGORIAN
METHOD:PUBLISH
BEGIN:VEVENT
UID:event-4465@www.doppelpunkt.de
DTSTAMP:20260425T141728
DTSTART:20260123T160000
DTEND:20260123T160000
SUMMARY:"Wortfunken"-Literaturfest: Autorenlesung mit Alex Rühle: "Zippel"\, ab 5 J.
LOCATION:Fabersaal/Bildungszentrum\, Gewerbemuseumsplatz 2\, 90403 Nürnberg
STATUS:CONFIRMED
END:VEVENT
END:VCALENDAR