BEGIN:VCALENDAR
VERSION:2.0
PRODID:-//Doppelpunkt//Events//DE
CALSCALE:GREGORIAN
METHOD:PUBLISH
BEGIN:VEVENT
UID:event-4464@www.doppelpunkt.de
DTSTAMP:20260425T141515
DTSTART:20260123T150000
DTEND:20260123T150000
SUMMARY:"Wortfunken"-Literaturfest: Spielenachmittag rund um bekannte Buchfiguren
LOCATION:Stadtteilbibliothek Maxfeld\, Maxfeldstr. 27\, 90409 Nürnberg
STATUS:CONFIRMED
END:VEVENT
END:VCALENDAR