BEGIN:VCALENDAR
VERSION:2.0
PRODID:-//Doppelpunkt//Events//DE
CALSCALE:GREGORIAN
METHOD:PUBLISH
BEGIN:VEVENT
UID:event-4463@www.doppelpunkt.de
DTSTAMP:20260425T135610
DTSTART:20260128T200000
DTEND:20260128T200000
SUMMARY:Addnfahrer: "Lausbuam Gschicht'n"\, Comedy
LOCATION:Heinrich-Lades-Halle\, Rathausplatz 2\, 91052 Erlangen
STATUS:CONFIRMED
END:VEVENT
END:VCALENDAR