BEGIN:VCALENDAR
VERSION:2.0
PRODID:-//Doppelpunkt//Events//DE
CALSCALE:GREGORIAN
METHOD:PUBLISH
BEGIN:VEVENT
UID:event-4461@www.doppelpunkt.de
DTSTAMP:20260425T135353
DTSTART:20260118T140000
DTEND:20260118T140000
SUMMARY:Kinderfasching der KG Muggenesia Nürnberg
LOCATION:Kulturwerkstatt Auf AEG\, Fürther Straße 244d\, 90429 Nürnberg
STATUS:CONFIRMED
END:VEVENT
END:VCALENDAR