BEGIN:VCALENDAR
VERSION:2.0
PRODID:-//Doppelpunkt//Events//DE
CALSCALE:GREGORIAN
METHOD:PUBLISH
BEGIN:VEVENT
UID:event-446@www.doppelpunkt.de
DTSTAMP:20260421T014829
DTSTART:20260104T140000
DTEND:20260104T140000
SUMMARY:Führung: "Jüdisches Leben auf dem Lande"
LOCATION:Jüdisches Museum\, Museumsgasse 12 - 16\, 91220 Schnaittach
STATUS:CONFIRMED
END:VEVENT
END:VCALENDAR