BEGIN:VCALENDAR
VERSION:2.0
PRODID:-//Doppelpunkt//Events//DE
CALSCALE:GREGORIAN
METHOD:PUBLISH
BEGIN:VEVENT
UID:event-4459@www.doppelpunkt.de
DTSTAMP:20260421T111559
DTSTART:20260211T143000
DTEND:20260211T143000
SUMMARY:Kindertheaterreihe: Theater katinkaspringinsfeld: "Zauberzeichen"\, ab 5 J.
LOCATION:Kinder- und Jugendhaus Suspect\, Am Röthenbacher Landgraben 61\, 90451 Nürnberg
STATUS:CONFIRMED
END:VEVENT
END:VCALENDAR