BEGIN:VCALENDAR
VERSION:2.0
PRODID:-//Doppelpunkt//Events//DE
CALSCALE:GREGORIAN
METHOD:PUBLISH
BEGIN:VEVENT
UID:event-4458@www.doppelpunkt.de
DTSTAMP:20260421T111600
DTSTART:20260212T143000
DTEND:20260212T143000
SUMMARY:Kindertheaterreihe: Theater PassParTu: "Du und ich & ich und Du"\, ab 3 J.
LOCATION:Ev. Gemeindesaal\, Gumbinner Str. 12\, 90411 Nürnberg
STATUS:CONFIRMED
END:VEVENT
END:VCALENDAR