BEGIN:VCALENDAR
VERSION:2.0
PRODID:-//Doppelpunkt//Events//DE
CALSCALE:GREGORIAN
METHOD:PUBLISH
BEGIN:VEVENT
UID:event-4457@www.doppelpunkt.de
DTSTAMP:20260421T105504
DTSTART:20260208T150000
DTEND:20260208T150000
SUMMARY:Kindertheaterreihe: Theater PassParTu: "Du und ich & ich und Du"\, ab 3 J.
LOCATION:Kulturladen Loni Übler Haus\, Marthastraße 60\, 90482 Nürnberg
STATUS:CONFIRMED
END:VEVENT
END:VCALENDAR