BEGIN:VCALENDAR
VERSION:2.0
PRODID:-//Doppelpunkt//Events//DE
CALSCALE:GREGORIAN
METHOD:PUBLISH
BEGIN:VEVENT
UID:event-4456@www.doppelpunkt.de
DTSTAMP:20260425T141624
DTSTART:20260115T143000
DTEND:20260115T143000
SUMMARY:Kindertheaterreihe: Theater Lakritz: "Die Lizzylothek"\, ab 3 J.
LOCATION:Ev. Gemeindesaal\, Gumbinner Str. 12\, 90411 Nürnberg
STATUS:CONFIRMED
END:VEVENT
END:VCALENDAR