BEGIN:VCALENDAR
VERSION:2.0
PRODID:-//Doppelpunkt//Events//DE
CALSCALE:GREGORIAN
METHOD:PUBLISH
BEGIN:VEVENT
UID:event-441@www.doppelpunkt.de
DTSTAMP:20260421T111430
DTSTART:20251207T140000
DTEND:20251207T140000
SUMMARY:Führung: "Ein verborgener Schatz: Die Genisa von Schnaittach"
LOCATION:Jüdisches Museum\, Museumsgasse 12 - 16\, 91220 Schnaittach
STATUS:CONFIRMED
END:VEVENT
END:VCALENDAR