BEGIN:VCALENDAR
VERSION:2.0
PRODID:-//Doppelpunkt//Events//DE
CALSCALE:GREGORIAN
METHOD:PUBLISH
BEGIN:VEVENT
UID:event-403@www.doppelpunkt.de
DTSTAMP:20260425T122817
DTSTART:20251219T190000
DTEND:20251219T190000
SUMMARY:Kulinartheater: "Phänomene"\, mit Mentalist/Magier Danny Ocean\, mit 4-Gänge-Menü
LOCATION:Burg Rabenstein\, Rabenstein 33\, 95491 Ahorntal
STATUS:CONFIRMED
END:VEVENT
END:VCALENDAR