BEGIN:VCALENDAR
VERSION:2.0
PRODID:-//Doppelpunkt//Events//DE
CALSCALE:GREGORIAN
METHOD:PUBLISH
BEGIN:VEVENT
UID:event-385@www.doppelpunkt.de
DTSTAMP:20260421T111431
DTSTART:20251213T210000
DTEND:20251213T210000
SUMMARY:"80er-90er-2000er"-Party
LOCATION:Hirsch\, Vogelweiher Str. 66\, 90441 Nürnberg
STATUS:CONFIRMED
END:VEVENT
END:VCALENDAR