BEGIN:VCALENDAR
VERSION:2.0
PRODID:-//Doppelpunkt//Events//DE
CALSCALE:GREGORIAN
METHOD:PUBLISH
BEGIN:VEVENT
UID:event-381-8210@www.doppelpunkt.de
DTSTAMP:20260421T111809
DTSTART:20260509T183000
DTEND:20260509T203000
SUMMARY:Culinartheater: „Dolce Vita - Der Süden ist überall“\, mit 4-Gänge-Menü
LOCATION:Tiergartenrestaurant Waldschänke\, Am Tiergarten 8\, 90480 Nürnberg
STATUS:CONFIRMED
END:VEVENT
END:VCALENDAR