BEGIN:VCALENDAR
VERSION:2.0
PRODID:-//Doppelpunkt//Events//DE
CALSCALE:GREGORIAN
METHOD:PUBLISH
BEGIN:VEVENT
UID:event-3463@www.doppelpunkt.de
DTSTAMP:20260425T142131
DTSTART:20260131T203000
DTEND:20260131T203000
SUMMARY:Black Patti (Blues/Roots)
LOCATION:Kneipenbühne\, Pfarrweg 6\, 92355 Oberweiling/Velburg
STATUS:CONFIRMED
END:VEVENT
END:VCALENDAR