BEGIN:VCALENDAR
VERSION:2.0
PRODID:-//Doppelpunkt//Events//DE
CALSCALE:GREGORIAN
METHOD:PUBLISH
BEGIN:VEVENT
UID:event-3461@www.doppelpunkt.de
DTSTAMP:20260425T141818
DTSTART:20260117T203000
DTEND:20260117T203000
SUMMARY:Countryholics (New Country/Rock/Americana)
LOCATION:Kneipenbühne\, Pfarrweg 6\, 92355 Oberweiling/Velburg
STATUS:CONFIRMED
END:VEVENT
END:VCALENDAR