BEGIN:VCALENDAR
VERSION:2.0
PRODID:-//Doppelpunkt//Events//DE
CALSCALE:GREGORIAN
METHOD:PUBLISH
BEGIN:VEVENT
UID:event-3460@www.doppelpunkt.de
DTSTAMP:20260425T142341
DTSTART:20260122T190000
DTEND:20260122T190000
SUMMARY:Vernissage: "Hört die Stimmen der Frauen"\, Stickkunst aus Afghanistan (bis 30.4.)
LOCATION:Kulturladen Loni Übler Haus\, Marthastraße 60\, 90482 Nürnberg
STATUS:CONFIRMED
END:VEVENT
END:VCALENDAR