BEGIN:VCALENDAR
VERSION:2.0
PRODID:-//Doppelpunkt//Events//DE
CALSCALE:GREGORIAN
METHOD:PUBLISH
BEGIN:VEVENT
UID:event-3459@www.doppelpunkt.de
DTSTAMP:20260425T142018
DTSTART:20260121T190000
DTEND:20260121T190000
SUMMARY:Vortrag im Männer-Forum: "Geschlechteridentitäten im Wandel der Zeit"
LOCATION:Kulturladen Loni Übler Haus\, Marthastraße 60\, 90482 Nürnberg
STATUS:CONFIRMED
END:VEVENT
END:VCALENDAR