BEGIN:VCALENDAR
VERSION:2.0
PRODID:-//Doppelpunkt//Events//DE
CALSCALE:GREGORIAN
METHOD:PUBLISH
BEGIN:VEVENT
UID:event-3458@www.doppelpunkt.de
DTSTAMP:20260425T141945
DTSTART:20260125T150000
DTEND:20260125T150000
SUMMARY:Vernissage: "Wiesenrausch und Schraubenziehen"\, Arbeiten von Teresa Wiechova und Stefan Stock (bis 9.3.)
LOCATION:Schloss Almoshof\, Almoshofer Hauptstr. 49-53\, 90427 Nürnberg
STATUS:CONFIRMED
END:VEVENT
END:VCALENDAR