BEGIN:VCALENDAR
VERSION:2.0
PRODID:-//Doppelpunkt//Events//DE
CALSCALE:GREGORIAN
METHOD:PUBLISH
BEGIN:VEVENT
UID:event-3457@www.doppelpunkt.de
DTSTAMP:20260425T141744
DTSTART:20260121T193000
DTEND:20260121T193000
SUMMARY:Autorenlesung mit Jan Beinßen: "Das Meerrettich-Komplott"\, Musik-Begleitung mit Fred Munker
LOCATION:Schloss Almoshof\, Almoshofer Hauptstr. 49-53\, 90427 Nürnberg
STATUS:CONFIRMED
END:VEVENT
END:VCALENDAR