BEGIN:VCALENDAR
VERSION:2.0
PRODID:-//Doppelpunkt//Events//DE
CALSCALE:GREGORIAN
METHOD:PUBLISH
BEGIN:VEVENT
UID:event-3455@www.doppelpunkt.de
DTSTAMP:20260425T142148
DTSTART:20260115T190000
DTEND:20260115T190000
SUMMARY:Jazz-Session
LOCATION:Kulturhof H7\, Hauptstr. 7\, 91088 Bubenreuth
STATUS:CONFIRMED
END:VEVENT
END:VCALENDAR